BEGIN:VCALENDAR
PRODID:-//HH//NONSGML Cascade Server//EN
VERSION:2.0
X-WR-CALNAME:Spring 2026 Doctoral Conferral Ceremony
X-WR-TIMEZONE:America/Chicago
X-WR-CALDESC:
BEGIN:VTIMEZONE
TZID:America/Chicago
BEGIN:DAYLIGHT
TZOFFSETFROM:-0500
TZOFFSETTO:-0400
TZNAME:EDT
DTSTART:19700308T020000
RRULE:FREQ=YEARLY;BYMONTH=3;BYDAY=2SU
END:DAYLIGHT
BEGIN:STANDARD
TZOFFSETFROM:-0400
TZOFFSETTO:-0500
TZNAME:CST
DTSTART:19701101T020000
RRULE:FREQ=YEARLY;BYMONTH=11;BYDAY=1SU
END:STANDARD
END:VTIMEZONE
BEGIN:VEVENT
DTSTART:20260514T180000
DTEND:20260514T200000
DTSTAMP:20260419T023533
UID:b99f04fc81736a2d739ae9ac316fe895
CREATED:20260113T170925
DESCRIPTION:Doctoral Conferral Ceremony for all graduating doctoral candid
 ates in the Spring 2026 semester
LAST-MODIFIED:20260113T170954
LOCATION:Arts Building 2.03.02B- Recital Hall
SEQUENCE:0
STATUS:CONFIRMED
SUMMARY:Spring 2026 Doctoral Conferral Ceremony
TRANSP:OPAQUE
END:VEVENT
END:VCALENDAR
